BEGIN:VCALENDAR
VERSION:2.0
PRODID:-//Beauty Festival - ECPv6.15.6//NONSGML v1.0//EN
CALSCALE:GREGORIAN
METHOD:PUBLISH
X-ORIGINAL-URL:https://tachagwr.com
X-WR-CALDESC:Events for Beauty Festival
REFRESH-INTERVAL;VALUE=DURATION:PT1H
X-Robots-Tag:noindex
X-PUBLISHED-TTL:PT1H
BEGIN:VTIMEZONE
TZID:Africa/Lagos
BEGIN:STANDARD
TZOFFSETFROM:+0100
TZOFFSETTO:+0100
TZNAME:WAT
DTSTART:20240101T000000
END:STANDARD
END:VTIMEZONE
BEGIN:VEVENT
DTSTART;TZID=Africa/Lagos:20251011T200000
DTEND;TZID=Africa/Lagos:20251012T053000
DTSTAMP:20260422T023935
CREATED:20250818T192954Z
LAST-MODIFIED:20250820T065926Z
UID:10000019-1760212800-1760247000@tachagwr.com
SUMMARY:Active Night
DESCRIPTION:
URL:https://tachagwr.com/workshop/active-night/
LOCATION:J Randle Centre\, Onikan rounabout\, Lagos Island\, Lagos\, Nigeria
CATEGORIES:Day 2
ATTACH;FMTTYPE=image/png:https://tachagwr.com/wp-content/uploads/2025/08/Tacha-GWR-Festival-Flyers-16.9.2-9-scaled.png
ORGANIZER;CN="The Beauty Festival":MAILTO:info@tachagwr.com
END:VEVENT
BEGIN:VEVENT
DTSTART;TZID=Africa/Lagos:20251011T160000
DTEND;TZID=Africa/Lagos:20251012T160000
DTSTAMP:20260422T023935
CREATED:20250818T192633Z
LAST-MODIFIED:20250820T073303Z
UID:10000018-1760198400-1760284800@tachagwr.com
SUMMARY:Tacha GWR
DESCRIPTION:
URL:https://tachagwr.com/workshop/tacha-gwr/
LOCATION:J Randle Centre\, Onikan rounabout\, Lagos Island\, Lagos\, Nigeria
CATEGORIES:Day 2
ATTACH;FMTTYPE=image/png:https://tachagwr.com/wp-content/uploads/2025/08/Tacha-GWR-Festival-Flyers-16.9.-TACHA-GWR-scaled.png
ORGANIZER;CN="The Beauty Festival":MAILTO:info@tachagwr.com
END:VEVENT
BEGIN:VEVENT
DTSTART;TZID=Africa/Lagos:20251011T140000
DTEND;TZID=Africa/Lagos:20251011T150000
DTSTAMP:20260422T023935
CREATED:20250818T192329Z
LAST-MODIFIED:20251009T071950Z
UID:10000017-1760191200-1760194800@tachagwr.com
SUMMARY:e-Commerce As A Means To Export Nigeria Beauty Products
DESCRIPTION:
URL:https://tachagwr.com/workshop/e-commerce-as-a-means-to-export-nigeria-beauty-products/
LOCATION:J Randle Centre\, Onikan rounabout\, Lagos Island\, Lagos\, Nigeria
CATEGORIES:Day 2
ATTACH;FMTTYPE=image/png:https://tachagwr.com/wp-content/uploads/2025/08/Tacha-GWR-Festival-Flyers-16.9.2-8-scaled.png
ORGANIZER;CN="The Beauty Festival":MAILTO:info@tachagwr.com
END:VEVENT
BEGIN:VEVENT
DTSTART;TZID=Africa/Lagos:20251011T123000
DTEND;TZID=Africa/Lagos:20251011T140000
DTSTAMP:20260422T023935
CREATED:20250818T191942Z
LAST-MODIFIED:20251009T072352Z
UID:10000016-1760185800-1760191200@tachagwr.com
SUMMARY:Gele Tying Workshop/Explore Other Nigerian Fabrics
DESCRIPTION:
URL:https://tachagwr.com/workshop/gele-tying-workshop-explore-other-nigerian-fabrics/
LOCATION:J Randle Centre\, Onikan rounabout\, Lagos Island\, Lagos\, Nigeria
CATEGORIES:Day 2
ATTACH;FMTTYPE=image/png:https://tachagwr.com/wp-content/uploads/2025/08/Tacha-GWR-Festival-Flyers-16.9.2-7-scaled.png
ORGANIZER;CN="The Beauty Festival":MAILTO:info@tachagwr.com
END:VEVENT
BEGIN:VEVENT
DTSTART;TZID=Africa/Lagos:20251011T123000
DTEND;TZID=Africa/Lagos:20251011T140000
DTSTAMP:20260422T023935
CREATED:20250818T191447Z
LAST-MODIFIED:20251009T072321Z
UID:10000014-1760185800-1760191200@tachagwr.com
SUMMARY:Adire Making Workshop
DESCRIPTION:
URL:https://tachagwr.com/workshop/adire-making-workshop/
LOCATION:J Randle Centre\, Onikan rounabout\, Lagos Island\, Lagos\, Nigeria
CATEGORIES:Day 2
ATTACH;FMTTYPE=image/png:https://tachagwr.com/wp-content/uploads/2025/08/Tacha-GWR-Festival-Flyers-16.9.2-5-scaled.png
ORGANIZER;CN="The Beauty Festival":MAILTO:info@tachagwr.com
END:VEVENT
BEGIN:VEVENT
DTSTART;TZID=Africa/Lagos:20251011T120000
DTEND;TZID=Africa/Lagos:20251011T140000
DTSTAMP:20260422T023935
CREATED:20250818T191714Z
LAST-MODIFIED:20250820T064949Z
UID:10000015-1760184000-1760191200@tachagwr.com
SUMMARY:Henna Application Workshop
DESCRIPTION:
URL:https://tachagwr.com/workshop/henna-application-workshop/
LOCATION:J Randle Centre\, Onikan rounabout\, Lagos Island\, Lagos\, Nigeria
CATEGORIES:Day 2
ATTACH;FMTTYPE=image/png:https://tachagwr.com/wp-content/uploads/2025/08/Tacha-GWR-Festival-Flyers-16.9.2-6-scaled.png
ORGANIZER;CN="The Beauty Festival":MAILTO:info@tachagwr.com
END:VEVENT
BEGIN:VEVENT
DTSTART;TZID=Africa/Lagos:20251011T110000
DTEND;TZID=Africa/Lagos:20251011T130000
DTSTAMP:20260422T023935
CREATED:20250818T185957Z
LAST-MODIFIED:20250820T063915Z
UID:10000011-1760180400-1760187600@tachagwr.com
SUMMARY:Fragrances And Diffusers Workshop
DESCRIPTION:
URL:https://tachagwr.com/workshop/fragrances-and-diffusers-workshop/
LOCATION:J Randle Centre\, Onikan rounabout\, Lagos Island\, Lagos\, Nigeria
CATEGORIES:Day 2
ATTACH;FMTTYPE=image/png:https://tachagwr.com/wp-content/uploads/2025/08/Tacha-GWR-Festival-Flyers-16.9.2-2-scaled.png
ORGANIZER;CN="The Beauty Festival":MAILTO:info@tachagwr.com
END:VEVENT
BEGIN:VEVENT
DTSTART;TZID=Africa/Lagos:20251011T110000
DTEND;TZID=Africa/Lagos:20251011T123000
DTSTAMP:20260422T023935
CREATED:20250818T185318Z
LAST-MODIFIED:20251009T072237Z
UID:10000010-1760180400-1760185800@tachagwr.com
SUMMARY:Perfume And Perfume Oil Workshop
DESCRIPTION:
URL:https://tachagwr.com/workshop/perfume-and-perfume-oil-workshop/
LOCATION:J Randle Centre\, Onikan rounabout\, Lagos Island\, Lagos\, Nigeria
CATEGORIES:Day 2
ATTACH;FMTTYPE=image/png:https://tachagwr.com/wp-content/uploads/2025/08/Tacha-GWR-Festival-Flyers-16.9-8-scaled.png
ORGANIZER;CN="The Beauty Festival":MAILTO:info@tachagwr.com
END:VEVENT
BEGIN:VEVENT
DTSTART;TZID=Africa/Lagos:20251011T110000
DTEND;TZID=Africa/Lagos:20251011T120000
DTSTAMP:20260422T023935
CREATED:20250818T191200Z
LAST-MODIFIED:20251009T073515Z
UID:10000013-1760180400-1760184000@tachagwr.com
SUMMARY:Beauty Treatments Workshop - Facials\, Chemical Peels\, Hair Removals\, Injectable Treatments and Dermal Fillers
DESCRIPTION:
URL:https://tachagwr.com/workshop/beauty-treatments-workshop-facials-chemical-peels-hair-removals-injectable-treatments-and-dermal-fillers/
LOCATION:J Randle Centre\, Onikan rounabout\, Lagos Island\, Lagos\, Nigeria
CATEGORIES:Day 2
ATTACH;FMTTYPE=image/png:https://tachagwr.com/wp-content/uploads/2025/08/Tacha-GWR-Festival-Flyers-16.9.2-4-scaled.png
ORGANIZER;CN="The Beauty Festival":MAILTO:info@tachagwr.com
END:VEVENT
BEGIN:VEVENT
DTSTART;TZID=Africa/Lagos:20251011T070000
DTEND;TZID=Africa/Lagos:20251011T100000
DTSTAMP:20260422T023935
CREATED:20251002T110525Z
LAST-MODIFIED:20251002T112519Z
UID:10000020-1760166000-1760176800@tachagwr.com
SUMMARY:Wellness with Kemen
DESCRIPTION:
URL:https://tachagwr.com/workshop/wellness-session-with-kemen/
LOCATION:J Randle Centre\, Onikan rounabout\, Lagos Island\, Lagos\, Nigeria
CATEGORIES:Day 2
ATTACH;FMTTYPE=image/png:https://tachagwr.com/wp-content/uploads/2025/10/Kemen.Tacha-GWR-Festival-Flyers-16.9-1.png
ORGANIZER;CN="The Beauty Festival":MAILTO:info@tachagwr.com
END:VEVENT
BEGIN:VEVENT
DTSTART;TZID=Africa/Lagos:20251010T200000
DTEND;TZID=Africa/Lagos:20251011T050000
DTSTAMP:20260422T023935
CREATED:20250818T184753Z
LAST-MODIFIED:20250819T181633Z
UID:10000009-1760126400-1760158800@tachagwr.com
SUMMARY:Beauty Fest Concert
DESCRIPTION:
URL:https://tachagwr.com/workshop/beauty-fest-concert/
LOCATION:J Randle Centre\, Onikan rounabout\, Lagos Island\, Lagos\, Nigeria
CATEGORIES:Day 1
ATTACH;FMTTYPE=image/png:https://tachagwr.com/wp-content/uploads/2025/08/Tacha-GWR-Festival-Flyers-16.9-7.png
ORGANIZER;CN="The Beauty Festival":MAILTO:info@tachagwr.com
END:VEVENT
BEGIN:VEVENT
DTSTART;TZID=Africa/Lagos:20251010T170000
DTEND;TZID=Africa/Lagos:20251010T190000
DTSTAMP:20260422T023935
CREATED:20250818T180203Z
LAST-MODIFIED:20250820T071913Z
UID:10000005-1760115600-1760122800@tachagwr.com
SUMMARY:Beauty Entrepreneurs SME Ideas Pitch
DESCRIPTION:
URL:https://tachagwr.com/workshop/beauty-entrepreneurs-sme-ideas-pitch/
LOCATION:J Randle Centre\, Onikan rounabout\, Lagos Island\, Lagos\, Nigeria
CATEGORIES:Day 1
ATTACH;FMTTYPE=image/png:https://tachagwr.com/wp-content/uploads/2025/08/Tacha-GWR-Festival-Flyers-16.9-Beauty-Entrepreneur-scaled.png
ORGANIZER;CN="The Beauty Festival":MAILTO:info@tachagwr.com
END:VEVENT
BEGIN:VEVENT
DTSTART;TZID=Africa/Lagos:20251010T151000
DTEND;TZID=Africa/Lagos:20251010T163000
DTSTAMP:20260422T023935
CREATED:20250818T182948Z
LAST-MODIFIED:20251009T072151Z
UID:10000006-1760109000-1760113800@tachagwr.com
SUMMARY:Lighting\, Shooting Angles\, Editing Basics For Beauty Content
DESCRIPTION:
URL:https://tachagwr.com/workshop/lighting-shooting-angles-editing-basics-for-beauty-content/
LOCATION:J Randle Centre\, Onikan rounabout\, Lagos Island\, Lagos\, Nigeria
CATEGORIES:Day 1
ATTACH;FMTTYPE=image/png:https://tachagwr.com/wp-content/uploads/2025/08/Tacha-GWR-Festival-Flyers-16.9-4-scaled.png
ORGANIZER;CN="The Beauty Festival":MAILTO:info@tachagwr.com
END:VEVENT
BEGIN:VEVENT
DTSTART;TZID=Africa/Lagos:20251010T150000
DTEND;TZID=Africa/Lagos:20251010T163000
DTSTAMP:20260422T023935
CREATED:20250818T184524Z
LAST-MODIFIED:20250819T180253Z
UID:10000008-1760108400-1760113800@tachagwr.com
SUMMARY:Photography For Beauty Brands And Models Shoot
DESCRIPTION:
URL:https://tachagwr.com/workshop/photography-for-beauty-brands-and-models-shoot/
LOCATION:J Randle Centre\, Onikan rounabout\, Lagos Island\, Lagos\, Nigeria
CATEGORIES:Day 1
ATTACH;FMTTYPE=image/png:https://tachagwr.com/wp-content/uploads/2025/08/Tacha-GWR-Festival-Flyers-16.9-6-scaled.png
ORGANIZER;CN="The Beauty Festival":MAILTO:info@tachagwr.com
END:VEVENT
BEGIN:VEVENT
DTSTART;TZID=Africa/Lagos:20251010T150000
DTEND;TZID=Africa/Lagos:20251010T163000
DTSTAMP:20260422T023935
CREATED:20250818T183302Z
LAST-MODIFIED:20250819T175753Z
UID:10000007-1760108400-1760113800@tachagwr.com
SUMMARY:Tiktok\, Instagram And YouTube Hacks For Beauty And Lifestyle Niches
DESCRIPTION:
URL:https://tachagwr.com/workshop/tiktok-instagram-and-youtube-hacks-for-beauty-and-lifestyle-niches/
LOCATION:J Randle Centre\, Onikan rounabout\, Lagos Island\, Lagos\, Nigeria
CATEGORIES:Day 1
ATTACH;FMTTYPE=image/png:https://tachagwr.com/wp-content/uploads/2025/08/Tacha-GWR-Festival-Flyers-16.9-5.png
ORGANIZER;CN="The Beauty Festival":MAILTO:info@tachagwr.com
END:VEVENT
BEGIN:VEVENT
DTSTART;TZID=Africa/Lagos:20251010T140000
DTEND;TZID=Africa/Lagos:20251010T150000
DTSTAMP:20260422T023935
CREATED:20250818T175828Z
LAST-MODIFIED:20250819T174019Z
UID:10000004-1760104800-1760108400@tachagwr.com
SUMMARY:Branding\, Marketing\, Client Management And Beauty Product Sourcing
DESCRIPTION:
URL:https://tachagwr.com/workshop/branding-marketing-client-management-and-beauty-product-sourcing/
LOCATION:J Randle Centre\, Onikan rounabout\, Lagos Island\, Lagos\, Nigeria
CATEGORIES:Day 1
ATTACH;FMTTYPE=image/png:https://tachagwr.com/wp-content/uploads/2025/08/Tacha-GWR-Festival-Flyers-16.9-3-1-scaled.png
ORGANIZER;CN="The Beauty Festival":MAILTO:info@tachagwr.com
END:VEVENT
BEGIN:VEVENT
DTSTART;TZID=Africa/Lagos:20251010T120000
DTEND;TZID=Africa/Lagos:20251010T130000
DTSTAMP:20260422T023935
CREATED:20250818T123829Z
LAST-MODIFIED:20250819T173252Z
UID:10000003-1760097600-1760101200@tachagwr.com
SUMMARY:Starting And Scaling A Beauty Brand
DESCRIPTION:
URL:https://tachagwr.com/workshop/starting-and-scaling-a-beauty-brand/
LOCATION:J Randle Centre\, Onikan rounabout\, Lagos Island\, Lagos\, Nigeria
CATEGORIES:Day 1
ATTACH;FMTTYPE=image/png:https://tachagwr.com/wp-content/uploads/2025/08/Tacha-GWR-Festival-Flyers-16.9-2-scaled.png
ORGANIZER;CN="The Beauty Festival":MAILTO:info@tachagwr.com
END:VEVENT
BEGIN:VEVENT
DTSTART;TZID=Africa/Lagos:20251010T100000
DTEND;TZID=Africa/Lagos:20251010T120000
DTSTAMP:20260422T023935
CREATED:20250818T090602Z
LAST-MODIFIED:20250819T172914Z
UID:10000002-1760090400-1760097600@tachagwr.com
SUMMARY:Master The Glam: Becoming A Pro Makeup Artiste
DESCRIPTION:
URL:https://tachagwr.com/workshop/master-the-glam-becoming-a-pro-makup-artiste/
LOCATION:J Randle Centre\, Onikan rounabout\, Lagos Island\, Lagos\, Nigeria
CATEGORIES:Day 1
ATTACH;FMTTYPE=image/png:https://tachagwr.com/wp-content/uploads/2025/08/Tacha-GWR-Festival-Flyers-16.9-1-scaled.png
ORGANIZER;CN="The Beauty Festival":MAILTO:info@tachagwr.com
END:VEVENT
END:VCALENDAR